BEGIN:VCALENDAR
VERSION:2.0
PRODID:-//Plone.org//NONSGML plone.app.event//EN
X-WR-TIMEZONE:Europe/Berlin
BEGIN:VEVENT
SUMMARY:natESM Community Workshop - Online
DTSTART;VALUE=DATE:20220221
DTEND;VALUE=DATE:20220222
DTSTAMP:20260420T114136Z
UID:6bc941bf894d4cb1afa27d4f01570527@project_zeoclients
CONTACT:Maria Rompe\, +49 40 460094 - 283\, info@nat-esm.de
CREATED:20211130T111737Z
DESCRIPTION:Online via Zoom
LAST-MODIFIED:20250224T111053Z
LOCATION:online
URL:https://www.nat-esm.de/services/workshops-and-trainings/events/ws-2202
 21
END:VEVENT
END:VCALENDAR
