BEGIN:VCALENDAR
VERSION:2.0
PRODID:-//Plone.org//NONSGML plone.app.event//EN
X-WR-TIMEZONE:Europe/Berlin
BEGIN:VEVENT
SUMMARY:🌐 OBGC Working Group Meeting
DTSTART;TZID=Europe/Berlin:20260319T130000
DTEND;TZID=Europe/Berlin:20260319T150000
DTSTAMP:20260423T180211Z
UID:ea28a97a9d8744138ace71e1d6a4bb42@project_zeoclients
CONTACT:Judith Hauck & Carsten Lemmen\, judith.hauck@awi.de\; carsten.lemm
 en@hereon.de
CREATED:20260127T095021Z
LAST-MODIFIED:20260127T095645Z
LOCATION:Online
URL:https://www.nat-esm.de/services/workshops-and-trainings/events/obgc-wo
 rking-group-meeting2
END:VEVENT
BEGIN:VTIMEZONE
TZID:Europe/Berlin
X-LIC-LOCATION:Europe/Berlin
BEGIN:STANDARD
DTSTART:20251026T020000
TZNAME:CET
TZOFFSETFROM:+0200
TZOFFSETTO:+0100
END:STANDARD
END:VTIMEZONE
END:VCALENDAR
