BEGIN:VCALENDAR
VERSION:2.0
PRODID:-//Plone.org//NONSGML plone.app.event//EN
X-WR-TIMEZONE:Europe/Berlin
BEGIN:VEVENT
SUMMARY:natESM Technical Training 3
DTSTART;VALUE=DATE:20241105
DTEND;VALUE=DATE:20241107
DTSTAMP:20260424T075218Z
UID:a987b21651934e2ca1b5b2256e92f370@project_zeoclients
ATTENDEE;CN="Jörg Benke";ROLE=REQ-PARTICIPANT:Jörg Benke
ATTENDEE;CN="Sergey Sukov";ROLE=REQ-PARTICIPANT:Sergey Sukov
ATTENDEE;CN="Sabine Grießbach";ROLE=REQ-PARTICIPANT:Sabine Grießbach
ATTENDEE;CN="Aparna Devulapalli";ROLE=REQ-PARTICIPANT:Aparna Devulapalli
CONTACT:Maria Rompe\, +49 40 460094 - 283\, info@nat-esm.de
CREATED:20211130T111737Z
DESCRIPTION:Performance Analysis and GPU programming (CUDA\, OpenACC\, Ope
 nMP\, kokkos)
LAST-MODIFIED:20250224T111052Z
LOCATION:FZJ\, Jülich
URL:https://www.nat-esm.de/services/workshops-and-trainings/events/natesm-
 training-2024
END:VEVENT
END:VCALENDAR
