BEGIN:VCALENDAR
VERSION:2.0
PRODID:-//Plone.org//NONSGML plone.app.event//EN
X-WR-TIMEZONE:Europe/Berlin
BEGIN:VEVENT
SUMMARY:🌐 natESM Summer School 2026
DTSTART;TZID=Europe/Berlin:20260913T140000
DTEND;TZID=Europe/Berlin:20260919T100000
DTSTAMP:20260421T020046Z
UID:c238bf25f7de4139ae1127b731adbbee@project_zeoclients
CONTACT:Dr. Iris Ehlert\, +49 40 460094 - 289\, ehlert@dkrz.de
CREATED:20250915T094622Z
LAST-MODIFIED:20260324T164229Z
LOCATION:Jugendherberge Kiel\,  Johannesstr. 1\,  24143 Kiel
URL:https://www.nat-esm.de/services/workshops-and-trainings/events/natesm-
 summer-school-2026
END:VEVENT
BEGIN:VTIMEZONE
TZID:Europe/Berlin
X-LIC-LOCATION:Europe/Berlin
BEGIN:DAYLIGHT
DTSTART:20260329T030000
TZNAME:CEST
TZOFFSETFROM:+0100
TZOFFSETTO:+0200
END:DAYLIGHT
END:VTIMEZONE
END:VCALENDAR
