BEGIN:VCALENDAR
VERSION:2.0
PRODID:-//Plone.org//NONSGML plone.app.event//EN
X-WR-TIMEZONE:Europe/Berlin
BEGIN:VEVENT
SUMMARY:km-scale Global Modelling Summit 2026
DTSTART;TZID=Europe/Berlin:20260720T100000
DTEND;TZID=Europe/Berlin:20260724T150000
DTSTAMP:20260421T014542Z
UID:bbd89e953c6e4cd1b78ed298d4620dba@project_zeoclients
CONTACT:Dr. Elina Plesca\, +49 40 41173 105\, warmworld_office@mpimet.mpg.
 de\, https://km-scale-summit-26.org/
CREATED:20260216T104147Z
DESCRIPTION:The summit aims to bring together experts in Earth-system mode
 lling\, observations\, high-performance computing\, human and environmenta
 l impacts\, and AI-assisted workflows to review progress in high-resolutio
 n ESM and discuss future directions.
LAST-MODIFIED:20260216T104150Z
LOCATION:Bucerius Law School Jungiusstraße 6 20355 Hamburg\, Germany
URL:https://www.nat-esm.de/services/workshops-and-trainings/events/km-scal
 e-global-modelling-summit-2026
END:VEVENT
BEGIN:VTIMEZONE
TZID:Europe/Berlin
X-LIC-LOCATION:Europe/Berlin
BEGIN:DAYLIGHT
DTSTART:20260329T030000
TZNAME:CEST
TZOFFSETFROM:+0100
TZOFFSETTO:+0200
END:DAYLIGHT
END:VTIMEZONE
END:VCALENDAR
