BEGIN:VCALENDAR
VERSION:2.0
PRODID:-//Plone.org//NONSGML plone.app.event//EN
X-WR-TIMEZONE:Europe/Berlin
BEGIN:VEVENT
SUMMARY:Introduction to OpenMP Offloading with AMD GPUs
DTSTART;VALUE=DATE:20241022
DTEND;VALUE=DATE:20241023
DTSTAMP:20260420T004734Z
UID:1111fbbf90424d2cba0bcd00d72ae1ef@project_zeoclients
CONTACT:Khatuna Kakhiani\, 0711 685 65796\, training@hlrs.de\, https://www
 .hlrs.de/training/2024/gpu-amd2
CREATED:20240923T090940Z
DESCRIPTION:Accelerate your computations using OpenMP offloading on GPUs! 
 Experts from AMD will instruct you on how to use OpenMP to leverage the po
 tential of GPUs.
LAST-MODIFIED:20250224T111052Z
LOCATION:Online
URL:https://www.nat-esm.de/services/workshops-and-trainings/events/introdu
 ction-to-openmp-offloading-with-amd-gpus
END:VEVENT
END:VCALENDAR
