BEGIN:VCALENDAR
VERSION:2.0
PRODID:-//Plone.org//NONSGML plone.app.event//EN
X-WR-TIMEZONE:Europe/Berlin
BEGIN:VEVENT
SUMMARY:High-performance computing with Python
DTSTART;TZID=Europe/Berlin:20240610T090000
DTEND;TZID=Europe/Berlin:20240614T130000
DTSTAMP:20260421T015147Z
UID:97bcb88c049e4961afb588c6ae602776@project_zeoclients
CONTACT:Dr. Jan Meinke\, +49 2461/61-2315\, j.meinke@fz-juelich.de\, https
 ://www.fz-juelich.de/de/ias/jsc/aktuelles/termine/kurse/2024/hpc-python
CREATED:20240418T100825Z
DESCRIPTION:his course combines lectures and hands-on sessions. We will sh
 ow how Python can be used on parallel architectures and how to optimize cr
 itical parts of the kernel using various tools.
LAST-MODIFIED:20250224T111051Z
LOCATION:Online
URL:https://www.nat-esm.de/services/workshops-and-trainings/events/high-pe
 rformance-computing-with-python
END:VEVENT
BEGIN:VTIMEZONE
TZID:Europe/Berlin
X-LIC-LOCATION:Europe/Berlin
BEGIN:DAYLIGHT
DTSTART:20240331T030000
TZNAME:CEST
TZOFFSETFROM:+0100
TZOFFSETTO:+0200
END:DAYLIGHT
END:VTIMEZONE
END:VCALENDAR
