BEGIN:VCALENDAR
VERSION:2.0
PRODID:-//Plone.org//NONSGML plone.app.event//EN
X-WR-TIMEZONE:Europe/Berlin
BEGIN:VEVENT
SUMMARY:🎓 ESM User Forum at Forschungszentrum Jülich
DTSTART;TZID=Europe/Berlin:20260629T090000
DTEND;TZID=Europe/Berlin:20260630T160000
DTSTAMP:20260421T020158Z
UID:35c2393587724f0d94c093c640252483@project_zeoclients
CONTACT:Dr. Olaf Stein\, o.stein@fz-juelich.de
CREATED:20260309T114538Z
DESCRIPTION:The meeting is aimed at scientists from the Earth System Model
 ling community as well as users of the Jülich HPC systems and will provid
 e an opportunity to exchange experiences\, discuss recent developments\, a
 nd strengthen collaboration across disciplines.
LAST-MODIFIED:20260309T114543Z
LOCATION:JSC\, FZ Jülich\, Jülich
URL:https://www.nat-esm.de/services/workshops-and-trainings/events/esm-use
 r-forum-at-forschungszentrum-julich
END:VEVENT
BEGIN:VTIMEZONE
TZID:Europe/Berlin
X-LIC-LOCATION:Europe/Berlin
BEGIN:DAYLIGHT
DTSTART:20260329T030000
TZNAME:CEST
TZOFFSETFROM:+0100
TZOFFSETTO:+0200
END:DAYLIGHT
END:VTIMEZONE
END:VCALENDAR
