BEGIN:VCALENDAR
VERSION:2.0
PRODID:-//Plone.org//NONSGML plone.app.event//EN
X-WR-TIMEZONE:Europe/Berlin
BEGIN:VEVENT
SUMMARY:BOOTCAMP: AI for Science Bootcamp
DTSTART;VALUE=DATE:20230417
DTEND;VALUE=DATE:20230419
DTSTAMP:20260420T061735Z
UID:ab341534bf7d49b0b5241086f42b06ac@project_zeoclients
CONTACT:Lorenzo Zanon\, +49 711 685 63824\, zanon@hlrs.de\, https://www.hl
 rs.de/training/2023/bc-ai-nv
CREATED:20211130T111737Z
DESCRIPTION:This training course will be held online.
LAST-MODIFIED:20250224T111050Z
LOCATION:Online
URL:https://www.nat-esm.de/services/workshops-and-trainings/events/ai-boot
 camp
END:VEVENT
END:VCALENDAR
