BEGIN:VCALENDAR
VERSION:2.0
PRODID:-//Plone.org//NONSGML plone.app.event//EN
X-WR-TIMEZONE:Europe/Berlin
BEGIN:VEVENT
SUMMARY:🎓 6th International Conference on Parallel Processing & Applied
  Mathematics
DTSTART;TZID=Europe/Berlin:20260830T120000
DTEND;TZID=Europe/Berlin:20260902T130000
DTSTAMP:20260421T014822Z
UID:b662c04334134f3fb4abfe6336d7c162@project_zeoclients
CONTACT:Prof. Roman Wyrzykowski\, roman@icis.pcz.pl\, https://ppam.edu.pl/
 call#home
CREATED:20260309T113937Z
DESCRIPTION:The focus will be on models\, algorithms\, and software tools 
 which facilitate efficient and convenient utilization of modern parallel a
 nd distributed computing architectures\, as well as on large-scale applica
 tions.
LAST-MODIFIED:20260309T113957Z
LOCATION:Poznan University of Technology\, in the Lecture Center of the Un
 iversity (Centrum Wykładowe Politechniki Poznańskiej)\,Piotrowo 2\, 61-1
 39 Poznań\, Poland
URL:https://www.nat-esm.de/services/workshops-and-trainings/events/6th-int
 ernational-conference-on-parallel-processing-applied-mathematics
END:VEVENT
BEGIN:VTIMEZONE
TZID:Europe/Berlin
X-LIC-LOCATION:Europe/Berlin
BEGIN:DAYLIGHT
DTSTART:20260329T030000
TZNAME:CEST
TZOFFSETFROM:+0100
TZOFFSETTO:+0200
END:DAYLIGHT
END:VTIMEZONE
END:VCALENDAR
