BEGIN:VCALENDAR
VERSION:2.0
PRODID:-//Plone.org//NONSGML plone.app.event//EN
X-WR-TIMEZONE:Europe/Berlin
BEGIN:VEVENT
SUMMARY:🎓 RSEHPC@ISC26 workshop - AI-guided parallel coding
DTSTART;TZID=Europe/Berlin:20260626T090000
DTEND;TZID=Europe/Berlin:20260626T130000
DTSTAMP:20260424T124327Z
UID:c08005672b0646269c74b9759d15dd7c@project_zeoclients
CONTACT:René Caspart\, https://www.helmholtz-hirse.de/events/2026_06_26-r
 sehpcatisc.html
CREATED:20260311T090434Z
DESCRIPTION:3rd Workshop on Research Software Engineering in High-Performa
 nce Computing
LAST-MODIFIED:20260311T090455Z
LOCATION:CCH - Congress Center Hamburg\, Congresspl. 1\, 20355 Hamburg
URL:https://www.nat-esm.de/news/events/rsehpc-isc26-workshop-ai-guided-par
 allel-coding
END:VEVENT
BEGIN:VTIMEZONE
TZID:Europe/Berlin
X-LIC-LOCATION:Europe/Berlin
BEGIN:DAYLIGHT
DTSTART:20260329T030000
TZNAME:CEST
TZOFFSETFROM:+0100
TZOFFSETTO:+0200
END:DAYLIGHT
END:VTIMEZONE
END:VCALENDAR
