BEGIN:VCALENDAR
VERSION:2.0
PRODID:-//Plone.org//NONSGML plone.app.event//EN
X-WR-TIMEZONE:Europe/Berlin
BEGIN:VEVENT
SUMMARY:🎓 Rossbypalooza 2026: Earth System Predictability across Scales
DTSTART;TZID=Europe/Berlin:20260720T110000
DTEND;TZID=Europe/Berlin:20260731T120000
DTSTAMP:20260421T015442Z
UID:3d0cb14b014c49fba93b30f26983dbb5@project_zeoclients
CONTACT:rossbypalooza@uchicago.edu\, https://rossbypalooza.github.io/rossb
 ypalooza-2026/
CREATED:20260309T101806Z
DESCRIPTION:Rossbypalooza is a student-led summer school at the University
  of Chicago. The summer school will consist of lecture series by faculty i
 n the first week\, introducing their experience of tackling problems relat
 ed to predictions and risk assessments.
LAST-MODIFIED:20260309T102006Z
LOCATION:University of Chicago\, 5801 S Ellis Ave\, Chicago\, IL 60637\, V
 ereinigte Staaten
URL:https://www.nat-esm.de/news/events/rossbypalooza-2026-earth-system-pre
 dictability-across-scales
END:VEVENT
BEGIN:VTIMEZONE
TZID:Europe/Berlin
X-LIC-LOCATION:Europe/Berlin
BEGIN:DAYLIGHT
DTSTART:20260329T030000
TZNAME:CEST
TZOFFSETFROM:+0100
TZOFFSETTO:+0200
END:DAYLIGHT
END:VTIMEZONE
END:VCALENDAR
