BEGIN:VCALENDAR
VERSION:2.0
PRODID:-//Plone.org//NONSGML plone.app.event//EN
X-WR-TIMEZONE:Europe/Berlin
BEGIN:VEVENT
SUMMARY:🎓 ICON Numerical Model Training 2026
DTSTART;TZID=Europe/Berlin:20260623T100000
DTEND;TZID=Europe/Berlin:20260625T160000
DTSTAMP:20260421T015147Z
UID:d5e1c49f48eb4c9080a86393cf53b6d5@project_zeoclients
CONTACT:training@dwd.de\, https://www.dwd.de/EN/specialusers/research_educ
 ation/seminar/2026/nwp_training2026/training_2026_en_node.html
CREATED:20251208T092329Z
DESCRIPTION:The aim of this training course is to familiarize new users wi
 th the modeling framework ICON in climate limited-area mode (ICON-CLM)
LAST-MODIFIED:20251208T092425Z
LOCATION:DWD Headquarter\, Frankfurter Straße 135 63067 Offenbach am Main
  GERMANY
URL:https://www.nat-esm.de/news/events/icon-numerical-model-training-2026
END:VEVENT
BEGIN:VTIMEZONE
TZID:Europe/Berlin
X-LIC-LOCATION:Europe/Berlin
BEGIN:DAYLIGHT
DTSTART:20260329T030000
TZNAME:CEST
TZOFFSETFROM:+0100
TZOFFSETTO:+0200
END:DAYLIGHT
END:VTIMEZONE
END:VCALENDAR
