BEGIN:VCALENDAR
VERSION:2.0
PRODID:-//Plone.org//NONSGML plone.app.event//EN
X-WR-TIMEZONE:Europe/Berlin
BEGIN:VEVENT
SUMMARY:🎓 🔗 Data Analysis and Software in Heliophysics workshop
DTSTART;TZID=Europe/Berlin:20261005T100000
DTEND;TZID=Europe/Berlin:20261009T140000
DTSTAMP:20260421T020143Z
UID:d7c7cd0c73a24a279fef40db991a6071@project_zeoclients
CONTACT:https://dash.heliophysics.net/
CREATED:20260216T090839Z
DESCRIPTION:The DASH (Data Analysis and Software in Heliophysics) and IHDE
 A (International Heliophysics Data Environment Alliance) meetings bring to
 gether scientists and software developers working on data analysis\, algor
 ithms\, community software\, data systems\, and standards across heliophys
 ics - from the Sun to geospace and beyond.
LAST-MODIFIED:20260216T090846Z
LOCATION:Dublin City Center\, Ireland + online
URL:https://www.nat-esm.de/news/events/data-analysis-and-software-in-helio
 physics-workshop
END:VEVENT
BEGIN:VTIMEZONE
TZID:Europe/Berlin
X-LIC-LOCATION:Europe/Berlin
BEGIN:DAYLIGHT
DTSTART:20260329T030000
TZNAME:CEST
TZOFFSETFROM:+0100
TZOFFSETTO:+0200
END:DAYLIGHT
END:VTIMEZONE
END:VCALENDAR
