BEGIN:VCALENDAR
VERSION:2.0
PRODID:-//Plone.org//NONSGML plone.app.event//EN
X-WR-TIMEZONE:Europe/Berlin
BEGIN:VEVENT
SUMMARY:🎓🔗 AMD Instinct™ GPU Training with HLRS
DTSTART;TZID=Europe/Berlin:20260422T130000
DTEND;TZID=Europe/Berlin:20260425T170000
DTSTAMP:20260424T131300Z
UID:18ebdee08fea4ec1a00f878481f54811@project_zeoclients
CONTACT:Tobias Haas\, 0711 685 87223\, tobias.haas@hlrs.de\, https://www.h
 lrs.de/de/training/2024/gpu-amd
CREATED:20260107T110619Z
DESCRIPTION:This course will give a deep dive into the AMD Instinct™ GPU
  architecture and its ROCm™ ecosystem\, including the tools to develop o
 r port HPC or AI applications to AMD GPUs.
LAST-MODIFIED:20260107T110647Z
LOCATION:Online
URL:https://www.nat-esm.de/news/events/amd-instinct-tm-gpu-training-with-h
 lrs
END:VEVENT
BEGIN:VTIMEZONE
TZID:Europe/Berlin
X-LIC-LOCATION:Europe/Berlin
BEGIN:DAYLIGHT
DTSTART:20260329T030000
TZNAME:CEST
TZOFFSETFROM:+0100
TZOFFSETTO:+0200
END:DAYLIGHT
END:VTIMEZONE
END:VCALENDAR
