BEGIN:VCALENDAR
VERSION:2.0
PRODID:-//Plone.org//NONSGML plone.app.event//EN
X-WR-TIMEZONE:Europe/Berlin
BEGIN:VEVENT
SUMMARY:CBC2026 - Connecting Biodiversity\, Climate\, and Human Behaviour
DTSTART;TZID=Europe/Berlin:20260921T110000
DTEND;TZID=Europe/Berlin:20260924T120000
DTSTAMP:20260424T130843Z
UID:cd23705456624681842d1c30ae5fdc4a@project_zeoclients
CONTACT:cbc2026@fu-confirm.de\, https://cbc-conference.org/
CREATED:20260423T092339Z
DESCRIPTION:The CBC2026 conference will bring together leading experts fro
 m biodiversity\, climate\, and behavioural sciences — and beyond — to 
 ignite dialogue\, foster collaborations\, and advance this vital scientifi
 c frontier.
LAST-MODIFIED:20260423T092346Z
LOCATION:Leipziger KUBUS on the campus of the Helmholtz Centre for Environ
 mental Research – UFZ
URL:https://www.nat-esm.de/cbc2026-connecting-biodiversity-climate-and-hum
 an-behaviour
END:VEVENT
BEGIN:VTIMEZONE
TZID:Europe/Berlin
X-LIC-LOCATION:Europe/Berlin
BEGIN:DAYLIGHT
DTSTART:20260329T030000
TZNAME:CEST
TZOFFSETFROM:+0100
TZOFFSETTO:+0200
END:DAYLIGHT
END:VTIMEZONE
END:VCALENDAR
